Workbook
Name Lista_año: 'Para desplegables'!$E$9:$E$32

Sheet Leéme
B2: ¿Qué es RESIES?
B4: RESIES es una herramienta para reporte y evaluación de la sustentabilidad diseñada para instituciones de educación superior. Esta herramienta tiene 4 niveles de jerarquía: Indicadores, subcategorías, categorías y resultado global. | G4: Gobernanza y seguimiento | J4: MANUAL DE USO
G5: Cultura sustentable | J5: Accede al manual de la herramienta RESIES para más información en este enlace
G6: Academia
G7: Gestión de campus
G8: Vinculación con el medio y responsabilidad social
B10: Instrucciones de uso
B11: La información se debe completar en las pestañas Datos institucionales y en las pestañas de las 5 categorías evaluadas. Las celdas donde se completa la información son de color amarillo y blanco. En el video 2 se puede ver como completar la información.
C13: Celda Color amarillo donde se completa el dato requerido en cada indicador | H13: Celdas color blanco, se ingresa información adicional en el caso que se requiera. Puede ser descripción del indicador, respaldo de verificación del dato u otros comentarios.
C16: VIDEO 1: ¿Qué es RESIES? | F16: VIDEO 2: ¿Cómo usar la herramienta?
B18: Descripción pestañas
B19: La herramienta cuenta con siete pestañas: cinco de las cuales corresponden a las categorías que se evaluarán, identificada cada una de ellas con un color distintivo. Además de una pestaña para ingresar datos institucionales y por último se encuentra la pestaña de Resultados. A continuación se describe cada una de ellas:
B21: Resultados: | C21: En esta pestaña se encuentra el resumen del puntaje obtenido. En la parte superior, el resultado global, y debajo los resultados por categorías. Los resultados son mostrados con gráficos y tablas resumen. Esta pestaña es solo para visualizar resultados y no debe ser editada. | G21: Categorías: | H21: En estas 5 pestañas se debe completar la información de desempeño para evaluar los indicadores. Todas las categorías tienen el mismo formato . A continuación se detalla cada una de las columnas:
G23: Indicador: | H23: Título del indicador que se evalúa, identificado con un código dentro de cada categoría.
G24: Variable: | H24: Aspectos del indicador que son evaluados
B25: Contribución a la agenda 2030: | C25: En esta pestaña se encuentra el gráfico que contrasta el aporte potencial y efectivo de las IES a distintas metas de la agenda 2030. Esta pestaña es solo para visualizar el gráfico y no debe ser editada. (Pestaña oculta debido a que se encuentra en actualización). | G25: Dato: | H25: Respuesta asociada al aspecto evaluado
G26: Descripción: | H26: Ingreso de información adicional asociada al indicador
B29: Datos Institucionales: | C29: En esta pestaña se deben completar los datos generales de cada institución. Las secciones a completar son: - Caracterización institucional - Población - Instalaciones - Año base

Sheet Resultado
B3: RESULTADO GLOBAL | I3: Puntaje bruto | R3: Puntaje ponderado
E4: Peso | F4: Puntaje bruto | G4: Puntaje ponderado
B5: Sobre un total de 100 puntos la institución obtiene: | C5: Gobernanza | D5: Gobernanza y seguimiento | E5: 0.19 | F5: =G25 -> 69.05 | G5: =F5*E5 -> 13.1195
C6: Cultura | D6: Cultura sustentable | E6: 0.22 | F6: =G37 -> 82.759866 | G6: =F6*E6 -> 18.20717
C7: Academia | D7: Academia | E7: 0.2 | F7: =G49 -> 90.649175 | G7: =F7*E7 -> 18.129835
B8: =SUM(G5:G9) -> 72.54774 | C8: Gestión | D8: Gestión de campus | E8: 0.2 | F8: =G73 -> 45.6 | G8: =F8*E8 -> 9.12
C9: VM y R.Social | D9: Vinculación con el medio y responsabilidad social | E9: 0.19 | F9: =G90 -> 73.532814 | G9: =F9*E9 -> 13.971235
C10: Sin avance | G10: =100-F11 -> 27.45226
D11: RESULTADO GLOBAL | F11: =SUM(G5:G9) -> 72.54774
B13: Resultados por categoría
B14: Gobernanza y seguimiento | I14: Puntaje bruto | R14: Puntaje ponderado
B15: Subcategoría | C15: ID | D15: Indicador | E15: Peso | F15: Puntaje bruto | G15: Puntaje ponderado
B16: Participación | C16: GOB1 | D16: Participación de grupos de interés | E16: 0.13 | F16: =+'Para desplegables'!B11 -> 100 | G16: =F16*E16 -> 13
B17: Planificación y estrategia | C17: GOB2 | D17: Compromiso institucional | E17: 0.2 | F17: =+'Para desplegables'!B12 -> 18 | G17: =F17*E17 -> 3.6
C18: GOB3 | D18: Plan/estrategia de Sustentabilidad | E18: 0.2 | F18: =+'Para desplegables'!B13 -> 100 | G18: =F18*E18 -> 20
B19: Reportabilidad y transparencia | C19: GOB4 | D19: Reportabilidad y transparencia | E19: 0.11 | F19: =+'Para desplegables'!B14 -> 25 | G19: =F19*E19 -> 2.75
B20: Coordinación | C20: GOB5 | D20: Coordinación sustentabilidad | E20: 0.09 | F20: =+'Para desplegables'!B15 -> 30 | G20: =F20*E20 -> 2.7
C21: GOB6 | D21: Vinculación con el medio | E21: 0.09 | F21: =+'Para desplegables'!B16 -> 100 | G21: =F21*E21 -> 9
C22: GOB7 | D22: Inclusión | E22: 0.09 | F22: =+'Para desplegables'!B17 -> 100 | G22: =F22*E22 -> 9
C23: GOB8 | D23: Género y diversidad sexual | E23: 0.09 | F23: =+'Para desplegables'!B18 -> 100 | G23: =F23*E23 -> 9
C24: Sin avance | G24: =100-G25 -> 30.95
E25: Resultado categoría | G25: =SUM(G16:G23) -> 69.05
B27: Cultura sustentable | I27: Puntaje bruto | R27: Puntaje ponderado
B28: Subcategoría | C28: ID | D28: Indicador | E28: Peso | F28: Puntaje bruto | G28: Puntaje ponderado
B29: Estudiantes | C29: CU1 | D29: Estudiantes promotores de la sustentabilidad | E29: =0.34/2 -> 0.17 | F29: =+'Para desplegables'!B19 -> 100 | G29: =F29*E29 -> 17
C30: CU2 | D30: Inducción a la sustentabilidad para estudiantes | E30: =0.34/2 -> 0.17 | F30: =+'Para desplegables'!B20 -> 100 | G30: =F30*E30 -> 17
B31: Colaboradores y académicos | C31: CU3 | D31: Colaboradores promotores de la sustentabilidad | E31: =0.29/3 -> 0.096666667 | F31: =+'Para desplegables'!B21 -> 11.120866 | G31: =F31*E31 -> 1.0750171
C32: CU4 | D32: Inducción a la sustentabilidad para colaboradores y académicos | E32: =0.29/3 -> 0.096666667 | F32: =+'Para desplegables'!B22 -> 13.636364 | G32: =F32*E32 -> 1.3181818
C33: CU5 | D33: Programa de prácticas sustentables para oficinas | E33: =0.29/3 -> 0.096666667 | F33: =+'Para desplegables'!B23 -> 100 | G33: =F33*E33 -> 9.6666667
B34: Sensibilización y participación | C34: CU6 | D34: Actividades de difusión y sensibilización | E34: =0.367/2 -> 0.1835 | F34: =+'Para desplegables'!B24 -> 100 | G34: =F34*E34 -> 18.35
C35: CU7 | D35: Encuesta de cultura sustentable | E35: =0.367/2 -> 0.1835 | F35: =+'Para desplegables'!B25 -> 100 | G35: =F35*E35 -> 18.35
C36: Sin avance | G36: =100-G37 -> 17.240134
E37: Resultado categoría | G37: =SUM(G29:G35) -> 82.759866
B39: Academia | I39: Puntaje bruto | R39: Puntaje ponderado
B40: Subcategoría | C40: ID | D40: Indicador | E40: Peso | F40: Puntaje bruto | G40: Puntaje ponderado
B41: Formación | C41: AC1 | D41: Curso mínimo transversal pregrado | E41: 0.22 | F41: =+'Para desplegables'!B26 -> 100 | G41: =F41*E41 -> 22
C42: AC2 | D42: Capacitación docentes | E42: 0.11 | F42: =+'Para desplegables'!B27 -> 100 | G42: =F42*E42 -> 11
C43: AC3 | D43: Programas de postgrado que incluyen competencias de sustentabilidad. | E43: 0.11 | F43: =+'Para desplegables'!B28 -> 14.992504 | G43: =F43*E43 -> 1.6491754
C44: AC4 | D44: Programas y carreras de pregrado que incluyen competencias de sustentabilidad. | E44: 0.11 | F44: =+'Para desplegables'!B29 -> 100 | G44: =F44*E44 -> 11
B45: Investigación, innovación y transferencia | C45: AC5 | D45: Apoyo a la investigación e innovación en sustentabilidad | E45: 0.15 | F45: =+'Para desplegables'!B30 -> 100 | G45: =F45*E45 -> 15
...

Sheet Datos Institucionales
D1: DATOS INSTITUCIONALES
B2: Indicador | C2: Variable | D2: Dato | E2: Descripción
C3: CARACTERIZACIÓN INSTITUCIONAL
B4: DI1 | C4: Tipo de institución | D4: Universidad
B5: DI2 | C5: Tipo de institución según el aporte financiero que recibe del estado | D5: Pública
B6: DI3 | C6: Nombre de la institución | D6: UNAH
B7: DI4 | C7: País | D7: Honduras
B8: DI5 | C8: Región | D8: Centroamerica
B9: DI6 | C9: Dirección | D9: Blvr suyapa Distrito Central
B10: DI7 | C10: Código postal | D10: 11101
B11: DI8 | C11: Nombre encargado/a reporte RESIES y cargo institucional | D11: Oziel Aaron Fernandez
B12: DI9 | C12: Número de contacto encargado/a reporte RESIES | D12: Oziel Aaron Fernandez
B13: DI10 | C13: Correo electrónico encargado/a reporte RESIES | D13: oziel.fernandez@unah.edu.hn
B14: DI11 | C14: Año de evaluación | D14: 2024
C15: POBLACIÓN
B16: DI12 | C16: Número total de estudiantes de pregrado | D16: 86274
B17: DI13 | C17: Número total de estudiantes de postgrado | D17: 1488
B18: DI14 | C18: Número total de estudiantes de pregrado admitidos en el año de evaluación | D18: 79600
B19: DI15 | C19: Número total de estudiantes de postgrado admitidos en el año de evaluación | D19: 1334
B20: DI16 | C20: Número total de estudiantes de pregrado egresados durante el año de evaluación | D20: 9768
B21: DI17 | C21: Número total de estudiantes de postgrado egresados durante el año de evaluación | D21: 386
B22: DI18 | C22: Total de jornadas completas equivalentes de académicos(as) | D22: 40
B23: DI19 | C23: Número total de académicos de planta | D23: 4119
B24: DI20 | C24: Total de jornadas completas equivalentes de no académicos | D24: 3417
B25: DI21 | C25: Número total de personas en cargos directivos (hasta 3ª nivel de jerarquía) | D25: 113
B26: DI22 | C26: Número total de colaboradores y académicos incorporados a la institución en el periodo evaluado | D26: 352
B27: DI23 | C27: Número total de colaboradores y académicos contratados indefinido o a plazo fijo por la institución | D27: 57
... B30: DI26 | C30: Número de carreras o programas de pregrado que posee la institución | D30: 69
C31: INSTALACIONES
B32: DI27 | C32: Describa las instalaciones de la institución, incluyendo información sobre sus campus, que son consideradas en esta evaluación. Explique y justifique por que se han dejado fuera algunas instalaciones. | D32: UNAH 9 Campus | E32: La UNAH cuenta con 9 campus distribuidos en las principales ciudades de Honduras: UNAH Ciudad Universitaria (Tegucigalpa) UNAH Cortés UNAH Comayagua UNAH Atlántida UNAH Choluteca UNAH Copán UNAH Olancho UNAH El Paraíso UNAH Yoro
B33: DI28 | C33: Superficie total de terreno propiedad (o en arriendo) de la institución (hectáreas). | D33: 2500 | E33: Terrenos no construidos que cumplen función de espacios naturales, incluyendo jardines, parques y reservas dentro de los campus. (Dato de la Dirección de Infraestructura, basado en el Plan Maestro)
B34: DI29 | C34: Superficie total designada como áreas verdes y espacios de naturaleza (hectáreas) | D34: 350000 | E34: Suma total de los metros cuadrados de todos los edificios permanentes y estructuras cubiertas en los campus considerados.
B35: DI30 | C35: Superficie total construida (metros cuadrados) | D35: 45000
B36: DI31 | C36: Superficie total de edificios recepcionada (entregada para iniciar su uso) en los últimos cinco años (metros cuadrados)
C37: AÑO BASE
B38: DI32 | C38: Año base emisiones de gases de efecto invernadero | D38: 2019
B39: DI33 | C39: Emisión de gases de efecto invernadero Alcance 1, 2 y 3 para año base (ton CO2-e/estudiante) | D39: 0.85
B40: DI34 | C40: Año base consumo de energía | D40: 2019
B41: DI35 | C41: Consumo de energía por metro cuadrado construido para año base (MWh/metro cuadrado construido) | D41: =IFERROR((SUM(D42:D49)),0) -> 0.25
B42: DI351 | C42: Consumo de energía eléctrica [MWh/metro cuadrado construido] | D42: 0.2
...

Sheet Gobernanza
D1: GOBERNANZA Y SEGUIMIENTO
B2: Indicador | C2: Variable | D2: Dato | E2: Descripción | F2: Auxiliar 1 | G2: Auxiliar 2
B3: GOB1 Participación de grupos de interés | C3: Existen instancias de representatividad para el conjunto de estudiantes elegidas de forma democrática. Estas deben representar a la totalidad de los estudiantes de la institución. | D3: Si | F3: =IF(D3="Si",G3,0) -> 14.3 | G3: 14.3
C4: Existen instancias de representatividad de colaboradores elegidos de forma democrática. | D4: Si | F4: =IF(D4="Si",G4,0) -> 14.3 | G4: 14.3
C5: Existen instancias de representatividad de académicos(as) elegidos de forma democrática. | D5: Si | F5: =IF(D5="Si",G5,0) -> 14.3 | G5: 14.3
C6: Existen instancias formales de diálogo con representantes del entorno significativo local de las instalaciones de la institución. | D6: Si | F6: =IF(D6="Si",G6,0) -> 14.3 | G6: 14.3
C7: las instancias de gobierno institucional cuenta con un representante de los estudiantes. | D7: Si | F7: =IF(D7="Si",G7,0) -> 14.3 | G7: 14.3
C8: las instancias de gobierno institucional cuenta con un representante de los colaboradores(as) | D8: Si | F8: =IF(D8="Si",G8,0) -> 14.3 | G8: 14.3
C9: las instancias de gobierno institucional cuenta con un representante de los académicos(as) | D9: Si | F9: =IF(D9="Si",G9,0) -> 14.3 | G9: 14.3
C10: RESULTADO | D10: =IF(SUM(F3:F9)>100,100,SUM(F3:F9)) -> 100
B11: GOB2 Compromiso institucional | C11: Existe un compromiso explícito con la sustentabilidad en el plan/estrategia institucional. | D11: Si | E11: Esta en proceso de construccion la Politica de sustentabilidad en el plan/estrategia institucional. | F11: =IF(D11="Si",G11,0) -> 18 | G11: 18 | H11: =G11*5.39%/2 -> 0.4851
C12: Cuenta con una política de sustentabilidad. | D12: No | F12: =IF(D12="Si",G12,0) -> 0 | G12: 9 | H12: =G12*5.39%/2 -> 0.24255
C13: La política incluye una definición de sustentabilidad que considera todas sus dimensiones. | D13: No | F13: =IF(D13="Si",G13,0) -> 0 | G13: 9
C14: La política incluye un compromiso de promover la sustentabilidad en la gobernanza y seguimiento. | D14: No | F14: =IF(D14="Si",G14,0) -> 0 | G14: 9
C15: La política incluye un compromiso de promover la sustentabilidad en la cultura de la comunidad institucional. | D15: No | F15: =IF(D15="Si",G15,0) -> 0 | G15: 9
C16: La política incluye un compromiso de promover la sustentabilidad en la academia. | D16: No | F16: =IF(D16="Si",G16,0) -> 0 | G16: 9
C17: La política incluye un compromiso de promover la sustentabilidad en la gestión de campus. | D17: No | F17: =IF(D17="Si",G17,0) -> 0 | G17: 9
C18: La política incluye un compromiso a promover la sustentabilidad con la vinculación con el medio y responsabilidad social. | D18: No | F18: =IF(D18="Si",G18,0) -> 0 | G18: 9
C19: La política establece el compromiso de crear un plan o estrategia de sustentabilidad. | D19: No | F19: =IF(D19="Si",G19,0) -> 0 | G19: 9
C20: La política fue construida de manera participativa, al menos triestamental. | D20: No | F20: =IF(D20="Si",G20,0) -> 0 | G20: 5
C21: La política es difundida en la pagina web de la institución | D21: No | F21: =IF(D21="Si",G21,0) -> 0 | G21: 5
C22: RESULTADO | D22: =SUM(F11:F21) -> 18
B23: GOB3 Plan / estrategia de Sustentabilidad | C23: Cuenta con un plan o estrategia de sustentabilidad. | D23: Si | E23: plan o estrategia de sustentabilidad en desarrolllo | F23: =IF(D23="Si",G23,0) -> 10 | G23: 10
C24: El plan de sustentabilidad incluye temas de gobernanza y seguimiento | D24: Si | F24: =IF(D24="Si",G24,0) -> 10 | G24: 10
C25: El plan de sustentabilidad incluye temas de cultura sustentable | D25: Si | F25: =IF(D25="Si",G25,0) -> 10 | G25: 10
C26: El plan de sustentabilidad incluye el tema de formación en sustentabilidad | D26: Si | F26: =IF(D26="Si",G26,0) -> 10 | G26: 10
C27: El plan de sustentabilidad incluye el tema de investigación en sustentabilidad. | D27: Si | F27: =IF(D27="Si",G27,0) -> 10 | G27: 10
C28: El plan de sustentabilidad incluye el tema de innovación en sustentabilidad. | D28: Si | F28: =IF(D28="Si",G28,0) -> 10 | G28: 10
C29: El plan de sustentabilidad incluye el tema de agua. | D29: Si | F29: =IF(D29="Si",G29,0) -> 10 | G29: 10
C30: El plan de sustentabilidad incluye el tema de biodiversidad y espacios de naturaleza. | D30: Si | F30: =IF(D30="Si",G30,0) -> 10 | G30: 10
C31: El plan de sustentabilidad incluye el tema de carbono neutralidad. | D31: Si | F31: =IF(D31="Si",G31,0) -> 10 | G31: 10
C32: El plan de sustentabilidad incluye el tema de energía. | D32: Si | F32: =IF(D32="Si",G32,0) -> 10 | G32: 10
C33: El plan de sustentabilidad incluye el tema de residuos. | D33: Si | F33: =IF(D33="Si",G33,0) -> 10 | G33: 10
C34: El plan de sustentabilidad incluye el tema de alimentación y compras. | D34: Si | F34: =IF(D34="Si",G34,0) -> 10 | G34: 10
C35: El plan de sustentabilidad incluye el tema de construcción sustentable. | D35: Si | F35: =IF(D35="Si",G35,0) -> 10 | G35: 10
... C39: El plan de sustentabilidad incluye el tema de trabajo justo. | D39: Si | F39: =IF(D39="Si",G39,0) -> 10 | G39: 10
A40: GOB3 | C40: RESULTADO | D40: =IF(D23="Si",IF(SUM(F24:F39)>100,100,SUM(F24:F39)),0) -> 100
B41: GOB4 Reportabilidad y transparencia | C41: Alternativa 1: La institución cuenta con un reporte de sustentabilidad vigente basado en los resultados de RESIES anual o bienaI. (Solo considerar reportes que han sido completados y lanzados) | D41: No | F41: =IF(D41="Si",G41,0) -> 0 | G41: 40
C42: Alternativa 2: La institución cuenta con otro reporte o memoria de sustentabildiad vigente y difundido | D42: No | F42: =IF(D42="Si",IF(D41="No",G42,0),0) -> 0 | G42: 30
C43: La institución demuestra esfuerzos para contemplar la participación de los estamentos en la realización de los reportes | D43: No | F43: =IF(D42="Si",IF(D43="Si",G43,0),IF(D41="Si",IF(D43="Si",G43,0),0)) -> 0 | G43: 10
...

Sheet Cultura
D1: CULTURA SUSTENTABLE
B2: Indicador | C2: Variable | D2: Dato | E2: Descripción | F2: Auxiliar 1 | G2: Auxiliar 2 | H2: Auxiliar 3
B3: CU1 Estudiantes promotores de la sustentabilidad | C3: Existen iniciativas, dirigidas a estudiantes, para la formación de promotores de la sustentabilidad | D3: Si | F3: =IF(D3="Si",IF(G3>=2,1,0),0) -> 1 | G3: =SUM(F4:F6) -> 3
C4: La iniciativa esta dirigida a quiénes asumirán la tarea de formar a pares y/o liderar procesos de cambios entre sus pares. | D4: Si | F4: =IF(D4="Si",G4,0) -> 1 | G4: 1
C5: La iniciativa esta enlazada con oportunidades de trabajo (voluntario o remunerado) para los participantes, donde puedan poner en práctica su aprendizaje. | D5: Si | F5: =IF(D5="Si",G5,0) -> 1 | G5: 1
C6: Se otorga un reconocimiento formal por la participación en el programa que incluye objetivos y horas dedicadas. | D6: Si | F6: =IF(D6="Si",G6,0) -> 1 | G6: 1
C7: Número de estudiantes que han participado de la iniciativa en los últimos 3 años | D7: 6485 | F7: =IF(G7>100,100,G7) -> 100 | G7: =3333*F3*H7 -> 246.28547 | H7: =IFERROR(D7/SUM('Datos Institucionales'!D16:D17),0) -> 0.073893029
C8: RESULTADO | D8: =IFERROR(F7,0) -> 100
B9: CU2 Inducción a la sustentabilidad para estudiantes | C9: Existe un programa extracurricular de inducción de sustentabilidad dirigido a estudiantes de pre y postgrado donde se da a conocer los siguientes temas: - Definición básica de sustentabilidad - Política de sustentabilidad: Dar a conocer el compromiso institucional con la sustentabilidad - Gestión de campus: Información sobre diversas iniciativas asociadas a las operaciones y servicios de las instalaciones de la institución (Ej: residuos, movilidad, energía, alimentación) - Formación: Oportunidades de formación en sustentabilidad disponibles - Participación: Oportunidades de participación en iniciativas de sustentabilidad. - Perspectiva de género - Agenda 2030 | D9: Si | F9: =IF(D9="Si",D9,0) -> Si
C10: Número de estudiantes de pre y postgrado admitidos durante el periódo de evaluación que han participado en al menos una actividad de inducción en temas de sustentabilidad | D10: 80934 | F10: =IF(D10>SUM('Datos Institucionales'!D18:D19),0,IF(F9="Si",G10*H10,0)) -> 100 | G10: 100 | H10: =D10/SUM('Datos Institucionales'!D18:D19) -> 1
A11: CU2 | C11: RESULTADO | D11: =IFERROR(F10,0) -> 100
B12: CU3 Colaboradores promotores de la sustentabilidad | C12: Existen iniciativas, dirigidas a colabores(as) no académicos(as), para la formación de promotores de la sustentabilidad | D12: Si | F12: =IF(D12="Si",IF(G12>=2,1,0),0) -> 1 | G12: =SUM(F13:F15) -> 3
C13: La iniciativa esta dirigida a quiénes asumirán la tarea de formar a pares y/o liderar procesos de cambios entre sus pares. | D13: Si | F13: =IF(D13="Si",G13,0) -> 1 | G13: 1
C14: La iniciativa esta enlazada con oportunidades de trabajo (voluntario o remunerado) para los participantes, donde puedan poner en práctica su aprendizaje. | D14: Si | F14: =IF(D14="Si",G14,0) -> 1 | G14: 1
C15: Se otorga un reconocimiento formal por la participación en el programa que incluye objetivos y horas dedicadas. | D15: Si | F15: =IF(D15="Si",G15,0) -> 1 | G15: 1
C16: Número de colaboradores no académicos que han participado de las iniciativas en los últimos 3 años | D16: 95 | E16: Han participado 95 colaboradores no académicos en las diferentes ediciones del Diplomado/Programa en los últimos 3 años | F16: =IF(G16>100,100,G16) -> 11.120866 | G16: =400*F12*H16 -> 11.120866 | H16: =IFERROR(D16/'Datos Institucionales'!D24,0) -> 0.027802166
C17: RESULTADO | D17: =F16 -> 11.120866
B18: CU4 Inducción a la sustentabilidad para colaboradores y académicos | C18: Existe un programa de inducción de sustentabilidad para colaboradores y académicos donde se da a conocer los siguientes temas: - Política de sustentabilidad: Dar a conocer el compromiso institucional con la sustentabilidad - Gestión de campus: Información sobre diversas iniciativas asociadas a las operaciones y servicios de las instalaciones de la institución (Ej: residuos, transporte, energía, alimentación) - Formación: Oportunidades de formación en sustentabilidad disponibles - Participación: Oportunidades de participación en iniciativas de sustentabilidad. - Perspectiva de género: Fortalecimiento de competencias docentes para la incorporación de la perspectiva de género de manera transversal en los procesos formativos. | D18: Si
C19: Número de colaboradores y académicos que han participado en al menos una actividad de inducción en temas de sustentabilidad en el período evaluado. | D19: 48 | E19: El primer taller del Certificado en EDS, realizado en mayo de 2025, contó con un total de 48 personas . | F19: =IF(D18="Si",IF(H19>1,100,H19*G19),0) -> 13.636364 | G19: 100 | H19: =D19/'Datos Institucionales'!D26 -> 0.13636364
A20: CU4 | C20: RESULTADO | D20: =IFERROR(F19,0) -> 13.636364
B21: CU5 Programa de prácticas sustentables para oficinas | C21: Existe un programa de buenas prácticas sustentables que incluya al menos los lineamentos definidos por la Red Campus Sustentable | D21: Si | E21: "Programa de Oficinas Verdes" (POV) fue aprobado por el Consejo Universitario en 2024. Su manual de procedimientos incluye las áreas de Energía, Agua, Residuos y Consumo Responsable, las cuales son compatibles con los lineamientos básicos de la Red Campus Sustentable.
C22: Número de oficinas afiliadas y activas en el programa | D22: 35 | F22: =IFERROR(IF(D21="Si",G22*H22,0),0) -> 194.54167 | G22: 667 | H22: =D22/D23 -> 0.29166667
C23: Número total de oficinas en la institución | D23: 120
C24: RESULTADO | D24: =IFERROR(IF(F22>100,100,F22),0) -> 100
B25: CU6 Actividades de difusión y sensibilización | C25: Ha realizado al menos una campaña de fomento de estilos de vida sustentables en el último año | D25: Si | E25: Se realizó la campaña "Semana Verde: Menos Plástico, Más Futuro" con un alcance de 5,000 estudiantes a través de redes sociales y cartelería. | F25: =IF(D25="Si",G25,0) -> 20 | G25: 20
C26: Ha realizado al menos una actividad con la participación de distintas iniciativas de sustentabilidad en el último año | D26: Si | E26: Se llevó a cabo el "Eco-Foro Universitario" , donde participaron el Club de Reciclaje, la Iniciativa de Huertos Urbanos, y la Dirección de Infraestructura Verde. | F26: =IF(D26="Si",G26,0) -> 20 | G26: 20
A27: CU6 | C27: Cuenta con un grupo activo de estudiantes dedicados a promover la sustentabilidad | D27: Si | E27: Existe el "Club de Voluntarios por la Sostenibilidad" (CVS), con 80 miembros activos. Su planificación semestral está formalizada y se reúne bimensualmente. | F27: =IF(D27="Si",G27,0) -> 20 | G27: 20
C28: Cuenta con un portal web dedicado a difundir la iniciativa de sustentabilidad de la institución | D28: Si | E28: El portal es [dominio].edu/sostenibilidad. Contiene noticias, proyectos, y una sección de recursos para la comunidad. | F28: =IF(D28="Si",G28,0) -> 20 | G28: 20
C29: Hay un enlace directo al portal de sustentabilidad en la página principal de la institución. | D29: Si | E29: El enlace directo se encuentra en el footer de la página principal institucional y como un banner rotativo en la sección de noticias. | F29: =IF(D29="Si",G29,0) -> 20 | G29: 20
C30: La unidad envía al menos un correo a todos sus estudiante al año, dedicado a la difusión de la sustentabilidad | D30: Si | E30: El correo masivo se envía anualmente en abril (Día de la Tierra). El correo llegó a 35,000 cuentas de estudiantes y contenía enlaces al portal y a la campaña. | F30: =IF(D30="Si",G30,0) -> 20 | G30: 20
C31: Ha sostenido al menos una serie de charlas con expertos dedicadas a la sustentabilidad, abiertas a todos sus estudiantes. | D31: Si | E31: Se realizó la serie de 4 "Webinars de Sostenibilidad y Economía Circular" en el segundo semestre , con la participación de expertos de la ONU y ONG locales. | F31: =IF(D31="Si",G31,0) -> 20 | G31: 20
C32: Otras actividades cocurriculares o esfuerzos de difusión que no corresponde a las previamente descritas | D32: Si | E32: Se ha incorporado un módulo de "Cultura Ambiental" en el curso introductorio a la universidad, que llega a 100% de los estudiantes de nuevo ingreso. | F32: =IF(D32="Si",G32,0) -> 20 | G32: 20
C33: RESULTADO | D33: =IF(SUM(F25:F32)>100,100,SUM(F25:F32)) -> 100
B34: CU7 Encuesta cultura sustentable | C34: Aplica anualmente una encuesta a la comunidad en torno a la sustentabilidad de su institución, la cual aborde los siguientes temas: hábitos, conocimiento y percepción institucional | D34: Si | F34: =IF(D34="Si",G34,0) -> 50 | G34: 50
C35: Difunde los resultados obtenidos de la encuesta en toda la comunidad | D35: Si | E35: Los resultados de la encuesta 2024 se difundieron en mayo de 2025 a través de: 1. Un resumen ejecutivo publicado en el portal de sostenibilidad. 2. Una presentación oficial ante el Consejo Universitario. 3. Una infografía enviada por correo masivo a estudiantes y docentes. | F35: =IF(D35="Si",IF(D34="Si",G35,0),0) -> 50 | G35: 50
C36: RESULTADO | D36: =SUM(F34:F35) -> 100

Sheet Academia
D1: ACADEMIA
B2: Indicador | C2: Variable | D2: Dato | E2: Descripción | F2: Auxiliar 1 | G2: Auxiliar 2 | H2: Auxiliar 3 | I2: Auxiliar 4
B3: AC1 Curso mínimo transversal pregrado | C3: Se imparte al menos un curso optativo introductorio de sustentabilidad, abierto a todos los estudiantes. | D3: Si | G3: 100
C4: Número de estudiantes que durante el año de evaluación ha participado en al menos un curso optativo de introducción a la sustentabilidad. | D4: 4500 | F4: =IF(D3="Si",G4,0) -> 5.2159399 | G4: =G3*H4 -> 5.2159399 | H4: =IFERROR(IF((D4/'Datos Institucionales'!D16)>1.000001,0,(D4/'Datos Institucionales'!D16)),0) -> 0.052159399 | I4: =IFERROR(IF(H4>1.000001,0,SUM(H4)),0) -> 0.052159399
C5: Se imparten cursos introductorios de sustentabilidad a los estudiantes de caracter obligatorio | D5: Si | G5: 100
C6: Número de estudiantes admitidos durante el año de evaluación en programas/carreras que cuenten con al menos un curso obligatorio de introducción a la sustentabilidad. | D6: 79600 | F6: =IF(D5="Si",G6,0) -> 100 | G6: =G5*H7 -> 100 | H6: =IFERROR(IF((D6/'Datos Institucionales'!D18)>1.000001,0,(D6/'Datos Institucionales'!D18)),0) -> 1
C7: RESULTADO | D7: =IFERROR(IF(F7>100,100,F7),0) -> 100 | F7: =IF(F4+F6>100,100,F4+F6) -> 100 | G7: =IF(H6>1,0,H5) -> 0 | H7: =IFERROR(IF(H6>1.000001,0,SUM(H6)),0) -> 1
B8: AC2 Capacitación docentes | C8: Existe un programa de capacitación al menos de 16 horas en docencia de la sustentabilidad dirigido a los académicos(as) de la institución. | D8: Si | F8: =IF(D8="Si",IF(G8=2,1,0),0) -> 1 | G8: =SUM(F9:F10) -> 2
C9: El programa incluye el contenido mínimo entregado por la Red Campus Sustentable. | D9: Si | F9: =IF(D9="Si",G9,0) -> 1 | G9: 1
C10: El programa considera otorgar un reconocimiento formal por la participación en el programa, que incluya objetivos y horas dedicadas. | D10: Si | F10: =IF(D10="Si",G10,0) -> 1 | G10: 1
C11: Número de académicos(as) que han participado del programa de capacitación en los últimos 3 años. | D11: 2100 | F11: =IF(G11>100,100,G11) -> 100 | G11: =667*F8*H11 -> 35017.5 | H11: =IFERROR(D11/('Datos Institucionales'!D22),0) -> 52.5
C12: RESULTADO | D12: =F12 -> 100 | F12: =IF(G8=2,F11,0) -> 100
B13: AC3 Programas de postgrado que incluyen competencias en sustentabilidad | C13: Número de estudiantes admitidos, durante el año evaluado, de programas de postgrado que incluyen la sustentabilidad en sus logros de aprendizaje u competencias de perfil de egreso. | D13: 200 | F13: =IFERROR(IF(H13<1.00001, G13*H13,0),0) -> 14.992504 | G13: 100 | H13: =D13/'Datos Institucionales'!D19 -> 0.14992504
C14: RESULTADO | D14: =F13 -> 14.992504
B15: AC4 Programas de pregrado que incluyen competencias en sustentabilidad. | C15: Número de estudiantes admitidos, en periodo reportado, de programas/carreras de pregrado que incluyen la sustentabilidad en sus logros de aprendizaje u competencias de perfil de egreso | D15: 79600 | F15: =IFERROR(IF(H15<1.00001,(G15*H15),0),0) -> 100 | G15: 100 | H15: =D15/'Datos Institucionales'!D18 -> 1
C16: RESULTADO | D16: =F15 -> 100
B17: AC5 Apoyo a la investigación e innovación en sustentabilidad | C17: Existe un programa que incentiva a académicos(as) de diversas disciplinas a desarrollar investigación y/o innovación enfocada en sustentabilidad. (El programa incluye alguno de los siguientes atributos, sin limitarse a ellos: financiamiento, mentoría, guías, capacitación) | D17: Si, para ambas | F17: =IF(D17="Si, para ambas",H17,IF(D17="Solo investigación",G17,IF(D17="Solo innovación",I17,0))) -> 60 | G17: 45 | H17: 60 | I17: 15
C18: Existe un programa que incentiva a estudiantes de diversas disciplinas a desarrollar investigación y/o innovación enfocada en sustentabilidad. (El programa incluye alguno de los siguientes atributos, sin limitarse a ellos: financiamiento, mentoría, guías, capacitación) | D18: Si, para ambas | F18: =IF(D18="Si, para ambas",H18,IF(D18="Solo investigación",G18,IF(D18="Solo innovación",I18,0))) -> 20 | G18: 15 | H18: 20 | I18: 5
C19: Existe un registro disponible para su comunidad sobre los incentivos y apoyos para la investigación y/o innovación enfocada en sustentabilidad | D19: Si, para ambas | F19: =IF(D19="Si, para ambas",H19,IF(D19="Solo investigación",G19,IF(D19="Solo innovación",I19,0))) -> 20 | G19: 15 | H19: 20 | I19: 5
C20: RESULTADO | D20: =SUM(F17:F19) -> 100
B21: AC6 Investigación e innovación enfocada en sustentabilidad | C21: Existe un registro público de investigaciones y/o innovaciones enfocadas en sustentabilidad. (El listado debe incluir el título, nombres de autores, departamento al que pertenenen, descripción de la investigación y/o innovación y palabras clave) | D21: Si, para ambas | F21: =IF(D21="Si, para ambas",H21,IF(D21="Solo investigación",G21,IF(D21="Solo innovación",I21,0))) -> 20 | G21: 15 | H21: 20 | I21: 5
C22: Número de investigaciones enfocadas en sustentabilidad publicadas durante el año de evaluación | D22: 35
C23: Número de innovaciones enfocadas en sustentabilidad publicadas durante el año de evaluación | D23: 12 | F23: =IF(H23>1,0,IF(H23>0.2,60,300*H23)) -> 60 | G23: 60 | H23: =IF(D24<0.0001,0,D22/D24) -> 0.29166667
C24: Número total de investigaciones publicadas durante el año de evaluación | D24: 120 | F24: =IF(H24>1,0,IF(H24>0.2,20,100*H24)) -> 20 | G24: 20 | H24: =IF(D25<0.0001,0,D23/D25) -> 0.3
C25: Número total de innovaciones publicadas durante el año de evaluación | D25: 40
C26: RESULTADO | D26: =IFERROR(SUM(F21:F25),0) -> 100
B27: AC7 Transferencia de conocimientos | C27: Existen programas de difusión científica y/o transferencia tecnológica donde se entregue financiamiento para proyectos enfocados en sustentabilidad | D27: Si | F27: =IF(D27="Si",G27,0) -> 20 | G27: 20 | I27: =G27*(9.23/2)% -> 0.923
C28: Existen programas de difusión científica y/o transferencia tecnológica donde se realicen trabajos con comunidades locales (entorno significativo de la institución), enfocados en sustentabilidad. | D28: Si | F28: =IF(D28="Si",G28,0) -> 20 | G28: 20 | I28: =G28*(9.23/2)% -> 0.923
C29: Existen programas de difusión científica y/o transferencia tecnológica donde se elabore material educativo en distintos formatos, dirigido a comunidad externa, enfocado en sustentabilidad. El material debe estar disponible de forma gratuita al menos en formato digital. | D29: Si | F29: =IF(D29="Si",G29,0) -> 20 | G29: 20 | I29: =G29*(9.23/2)% -> 0.923
C30: Existen programas de difusión científica y/o transferencia tecnológica donde se realicen colaboraciones con organismos públicos para transferencia de investigación y/o innovación hacia la comunidad, enfocado en sustentabilidad. | D30: Si | F30: =IF(D30="Si",G30,0) -> 20 | G30: 20 | I30: =G30*(9.23/2)% -> 0.923
C31: Existen programas de difusión científica y/o transferencia tecnológica enfocada en la sustentabilidad, donde se realice otra actividad no incluida en la lista anterior. | D31: Si | F31: =IF(D31="Si",G31,0) -> 20 | G31: 20 | I31: =G31*(9.23/2)% -> 0.923
C32: RESULTADO | D32: =SUM(F27:F31) -> 100

Sheet Campus
D1: GESTIÓN DE CAMPUS
B2: Indicador | C2: Variable | D2: Dato | E2: Descripción | F2: Auxiliar 1 | G2: Auxiliar 2 | H2: Auxiliar 3
B3: GC1 Gestión integral de agua | C3: La institución cuenta con un diagnóstico de línea de base de gestión de agua vigente | D3: Si | F3: =IF(D3="Si",G3,0) -> 30 | G3: 30 | H3: =IF(SUM(F5:F12)>40,40,SUM(F5:F12)) -> 40
C4: Existe un plan de gestión para el consumo del agua que incluya: - Definición de metas de reducción de consumo. - Identificación de buenas prácticas y mejores técnicas disponibles. - Programa de incorporación de oportunidades de mejora | D4: Si | F4: =IF(D4="Si",G4,0) -> 30 | G4: 30 | H4: =F3 -> 30
C5: Se ha implementado un registro mensual de los usos de agua en áreas críticas, mediante la instalación de medidores de flujo. | D5: Si | F5: =IF(D5="Si",G5,0) -> 10 | G5: 10 | H5: =F4 -> 30
C6: Se ha implementado sistema de captación de agua lluvia en la institución | D6: Si | F6: =IF(D6="Si",G6,0) -> 10 | G6: 10
C7: Se ha implementado un sistema de tratamiento de aguas grises para reutilización en el campus | D7: Si | F7: =IF(D7="Si",G7,0) -> 10 | G7: 10
C8: Se ha implementado sistema de urinarios secos ecológicos | D8: No | F8: =IF(D8="Si",G8,0) -> 0 | G8: 10
C9: Se ha implementado un sistema de riego eficiente en sus áreas verdes y espacios naturales | D9: Si | F9: =IF(D9="Si",G9,0) -> 10 | G9: 10
C10: Se ha implementado sistemas de consumo eficiente de agua en griferías (aireadores u otro) | D10: Si | F10: =IF(D10="Si",G10,0) -> 10 | G10: 10
C11: Se ha implementado sistemas eficientes de uso de agua en estanques de baño (doble descarga u otro) | D11: Si | F11: =IF(D11="Si",G11,0) -> 10 | G11: 10
C12: Se ha implementado algún otro sistema de uso eficiente del consumo de agua. | D12: Si | F12: =IF(D12="Si",G12,0) -> 10 | G12: 10
C13: RESULTADO | D13: =SUM(H3:H5) -> 100
B14: GC2 Huella Hídrica | C14: Existe un Reporte de Huella Hídrica para el año evaluado | D14: Si | F14: =IF(D14="Si",G14,0) -> 90 | G14: 90
C15: El reporte de Huella Hídrica cuenta con una verificación externa | D15: No | F15: =IF(D15="Si",G15,0) -> 0 | G15: 10
C16: RESULTADO | D16: =SUM(F14:F15) -> 90
B17: GC3 Reducción del consumo de agua | C17: Consumo total de agua (metros cúbicos m3) para el año evaluado | F17: =IF(100<H18,100,IF(H18<=0,0,H18)) -> 0 | G17: 100 | H17: =D17/H19 -> 0
C18: PORCENTAJE DE REDUCCIÓN DEL CONSUMO (en relación al año base) | D18: =IFERROR(IF(D17=0,0,1-H17/G18),0) -> 0 | G18: ='Datos Institucionales'!D51 -> 0.08 | H18: =500*IF((G18-H17)/G18=1,0,IF((G18-H17)<0,0,(G18-H17)/G18)) -> 0
C19: RESULTADO | D19: =IFERROR(F17,0) -> 0 | H19: =+'Datos Institucionales'!D16+'Datos Institucionales'!D17 -> 87762
C20: Existe un programa para la preservación y protección de la biodiversidad nativa dentro de sus espacios de naturaleza | D20: Si | F20: =IF(D20="Si",G20,0) -> 10 | G20: 10 | H20: =IF(SUM(F21:F29)>90,90,SUM(F21:F29)) -> 90
B21: GC4 Biodiversidad | C21: Se ha realizado un inventario completo de especies en peligro que existan dentro de las instalaciones (flora y fauna) | D21: Si | F21: =IF(D21="Si",G21,0) -> 20 | G21: 20 | H21: =F20 -> 10
C22: Existe algún proyecto de reforestación/regeneración con flora nativa. | D22: Si | F22: =IF(D22="Si",G22,0) -> 10 | G22: 10
C23: Existe algun proyecto educativo que concientice a la comunidad interna sobre las especies presentes en el campus y los cuidados que requieren | D23: Si | F23: =IF(D23="Si",G23,0) -> 20 | G23: 20
C24: Hay señaléticas y senderos interpretativos que orienten e informen sobre las especies presentes en los campus y las medidas de cuidado implementadas | D24: Si | F24: =IF(D24="Si",G24,0) -> 10 | G24: 10
C25: Existe algún plan de protección y mejora de hábitat para la biodiversidad nativa que cuenta la institución | D25: Si | F25: =IF(D25="Si",G25,0) -> 10 | G25: 10
C26: La institución esta adherida de manera formal a algún programa de cuidado de la biodiversidad nativa local. | D26: Si | F26: =IF(D26="Si",G26,0) -> 10 | G26: 10
C27: Implementación de huertos universitarios/urbanos y/o viveros con fines terapéuticos, educativos o inclusivos. | D27: Si | F27: =IF(D27="Si",G27,0) -> 20 | G27: 20
C28: Existe difusión del inventario y programa de la biodiversidad y fauna existente en la institución | D28: Si | F28: =IF(D28="Si",G28,0) -> 10 | G28: 10
C29: Otra acción que no este en la lista anterior que cumple el objetivo del indicador | D29: Si | F29: =IF(D29="Si",G29,0) -> 10 | G29: 10
C30: RESULTADO | D30: =H20+H21 -> 100
B31: GC5 Manejo sustentable de jardines | C31: La institución cuenta con una plan o programa de manejo sustentable de sus espacios de naturaleza y áreas verdes. | D31: Si | F31: =IF(D31="Si",G31,0) -> 10 | G31: 10 | H31: =IF(SUM(F32:F36)>90,90,SUM(F32:F36)) -> 90
C32: Se ha Implementado un sistema se uso eficiente de agua. | D32: Si | F32: =IF(D32="Si",G32,0) -> 18 | G32: 18
C33: Se utiliza especies adecuadas para zona climática y/o de bajo consumo hídrico. | D33: Si | F33: =IF(D33="Si",G33,0) -> 18 | G33: 18
C34: Se realiza control de especies alergénicas, para reducir incidencia de alergias en la comunidad | D34: Si | F34: =IF(D34="Si",G34,0) -> 18 | G34: 18
C35: Se realiza un manejo integrado de plagas y enfermedades, promoviendo el uso de biopreparados, evitando el uso de biocidas sintéticos. | D35: Si | F35: =IF(D35="Si",G35,0) -> 18 | G35: 18
C36: Se realiza una gestión integrada de procesos de fertilización, enfocado en el manejo de residuos vegetales de las dependencias. | D36: Si | F36: =IF(D36="Si",G36,0) -> 18 | G36: 18
C37: Metros cuadrados de áreas verdes que operan bajo el plan o programa | F37: =IF(H37>1,0, H37*H31) -> 0 | H37: =(D37/10000)/'Datos Institucionales'!D34 -> 0
C38: RESULTADO | D38: =IFERROR(F37+F31,0) -> 10
B39: GC6 Compromiso con la carbono neutralidad | C39: La institución cuenta con un inventario de emisiones de GEI considerando los alcances 1,2 y 3 desarrollados de forma anual | D39: Si | F39: =IF(D39="Si",G39,0) -> 25 | G39: 25
C40: El inventario de emisiones cuenta con una verificación externa. | D40: No | F40: =IF(D40="Si",G40,0) -> 0 | G40: 5
...

Sheet VM y R. Social
D1: VINCULACIÓN CON EL MEDIO Y RESPONSABILIDAD SOCIAL
B2: Indicador | C2: Variable | D2: Dato | E2: Descripción | F2: Auxiliar 1 | G2: Auxiliar 2 | H2: Auxiliar 3
B3: RS1 Asequibilidad | C3: La institución cuenta con adscripción a gratuidad | D3: Si | E3: La UNAH implementa Gratuidad de la Matrícula a nivel nacional y dispone del Programa de Becas y Ayudas Estudiantiles que incluye becas socioeconómicas, de excelencia académica, y de apoyo a estudiantes con discapacidad, asegurando la permanencia. | F3: =IF(D3="Si",G3,0) -> 20 | G3: 20
C4: Existen programas de inclusión para promover el acceso y asequibilidad para estudiantes de pueblos originarios, migrantes, personas con discapacidad, diversidad de género y equidad de género. | D4: Si | E4: Existen normativas para la admisión de estudiantes con discapacidad, y el Programa de Inclusión y Desarrollo Humano promueve ajustes razonables y accesibilidad. | F4: =IF(D4="Si",G4,0) -> 20 | G4: 20
C5: Se cuenta con al menos un programa de retención estudiantil | D5: Si | E5: Se centra en programas diseñados para ayudar a los estudiantes matriculados a permanecer en la universidad y completar sus estudios (por ejemplo, tutoría, asesoramiento, mentoría). | F5: =IF(D5="Si",G5,0) -> 10 | G5: 10
C6: Existe otro programa para facilitar el acceso de estudiantes con condiciones socioeconómicas desfavorables | D6: Si | E6: Se centra en el acceso para poblaciones vulnerables (por ejemplo, becas, ayuda financiera o cuotas especiales de admisión para estudiantes de bajos ingresos). | F6: =IF(D6="Si",G6,0) -> 10 | G6: 10
C7: Número de estudiantes admitidos en el año evaluado con gratuidad, provienentes de los 6 primeros deciles del programa de inclusión y asequibilidad y de algún otro programa que facilita el acceso. | D7: 7320 | E7: Estudiantes que recibieron matrícula gratuita (gratuidad) . * | F7: =IF(H7>0.5,G7,H7*G7*2) -> 7.3567839 | G7: 40 | H7: =IF(D7>'Datos Institucionales'!D18,0,D7/'Datos Institucionales'!D18) -> 0.091959799
C8: RESULTADO | D8: =IFERROR(SUM(F3:F7),0) -> 67.356784
B9: RS2 Plan de inclusión | C9: Cuenta con un plan de inclusión institucional, el cual contiene al menos los siguientes temas: -Diversidad étnica -Migrantes -Personas provenientes de contextos socioeconómicos desfavorables -Personas en situación de discapacidad -Otros temas de similar naturaleza | D9: Si | E9: La institución sí cumple con el requisito de tener un Plan de Inclusión institucional que aborde los temas solicitados. | F9: =IF(D9="Si",G9,0) -> 70 | G9: 70 | I9: =G9*(5.53/3)% -> 1.2903333
C10: Se realizan actividades de concientización e inclusión en la institución durante el año evaluado | D10: Si | E10: Se realizó actividad de concientización e inclusión , atraves de la socializacion de la Política de Inclusión y Equidad en la Educación Superior para la Cohesión Social (PIES-UNAH) | F10: =IF(D10="Si",G10,0) -> 30 | G10: 30 | I10: =G10*(5.53/3)% -> 0.553
A11: RS2 | C11: RESULTADO | D11: =IFERROR(SUM(F9:F10),0) -> 100
B12: RS3 Perspectiva de género y diversidad sexual | C12: La institución cuenta con un plan y protocolo con perspectiva de género y diversidad sexual, cuyo protocolo además incluye; - Protocolo contra la violencia de género - Programa de acompañamiento a las víctimas - Protocolo de acoso sexual y/o discriminación | D12: Si | E12: Se cumple con este requisito. La institución cuenta con el plan y los protocolos específicos de género y diversidad sexual atraves de la oficina de Genero | F12: =IF(D12="Si",G12,0) -> 100 | G12: 100
C13: RESULTADO | D13: =IFERROR(F12,0) -> 100
B14: RS4 Presencia equilibrada | C14: Número de mujeres en cargos directivos (hasta 3ª nivel de jerarquía) | D14: 90 | F14: =IF(D14>'Datos Institucionales'!D25,0,IF(H14>0.5,G14,IF(H14<0.1,0,2*H14*G14))) -> 50 | G14: 50 | H14: =D14/'Datos Institucionales'!D25 -> 0.79646018 | I14: =G14*(5.53/3)% -> 0.92166667
C15: Número de mujeres con titularidad académica para el año evaluado | D15: 70 | F15: =IF(D15>'Datos Institucionales'!D23,0, IF(H15>0.5,G15,IF(H15<0.1,0,2*H15*G15))) -> 0 | G15: 50 | H15: =D15/'Datos Institucionales'!D23 -> 0.016994416 | I15: =G15*(5.53/3)% -> 0.92166667
C16: RESULTADO | D16: =IFERROR(SUM(F14:F15),0) -> 50
B17: RS5 Perspectiva de género en extensión y vinculación con el medio | C17: La institución ha implementado campañas anuales de sensibilización, prevención y acompañamiento con su entorno significativo local y la comunidad institucional, que aborden las temáticas. - Ruptura de estereotipos de género - Promoción de la equidad de género y presencia equilibrada - Prevención de la violencia de género | D17: Si | E17: Se cumple con este requisito. se implementan y se registraron las campañas requeridas en extensión/vinculación. | F17: =IF(D17="Si",G17,0) -> 30 | G17: 30
C18: La institución ha realizado actividades (charlas, cursos, talleres, seminarios) dirigidos a toda la comunidad interna, en el año evaluado, que aborden las temáticas descritas en criterio. | D18: Si | E18: se han ejecutado actividades concretas de concientización para la comunidad universitaria. | F18: =IF(D18="Si",G18,0) -> 35 | G18: 35
C19: La institución ha desarrollado un programa de vinculación con el medio que considere explícitamente la perspectiva de género, vigente para el año de evaluación. | D19: Si | E19: existen documentos formal (programa) que integre la perspectiva de género en las actividades de extensión universitaria. | F19: =IF(D19="Si",G19,0) -> 35 | G19: 35
C20: RESULTADO | D20: =IFERROR(SUM(F17:F19),0) -> 100
B21: RS6 Colaboración | C21: La institución cuenta con una colaboración activa orientada a la sustentabilidad con una organización privada | D21: Si | E21: Organización privada: Empresas, corporaciones o gremios del sector privado. | F21: =IF(D21="Si",G21,0) -> 20 | G21: 20 | H21: =IF(SUM(F21:F24)>60, 60,SUM(F21:F24)) -> 60
C22: La institución cuenta con una colaboración activa orientada a la sustentabilidad con una entidad del estado | D22: Si | E22: Entidad del estado: Ministerios, municipalidades, entes reguladores o agencias gubernamentales. | F22: =IF(D22="Si",G22,0) -> 20 | G22: 20
C23: La institución cuenta con una colaboración activa orientada a la sustentabilidad con una institución de educación superior | D23: Si | E23: Institución de educación superior (IES): Otras universidades, escuelas técnicas o centros de investigación. | F23: =IF(D23="Si",G23,0) -> 20 | G23: 20
C24: La institución cuenta con una colaboración activa orientada a la sustentabilidad con una organización de la Sociedad Civil u ONG | D24: Si | E24: Organización de la Sociedad Civil u ONG: Fundaciones, asociaciones sin fines de lucro o grupos comunitarios. | F24: =IF(D24="Si",G24,0) -> 20 | G24: 20
C25: Académicos(as) colaboran activamente con una organización privada orientada en sustentabilidad | D25: Si | F25: =IF(D25="Si",G25,0) -> 10 | G25: 10 | H25: =IF(SUM(F25:F28)>20, 20,SUM(F25:F28)) -> 20
C26: Académicos(as) colaboran activamente con una entidad del estado orientada en sustentabilidad | D26: Si | F26: =IF(D26="Si",G26,0) -> 10 | G26: 10
C27: Académicos(as) colaboran activamente con una institución de educación superior orientada en sustentabilidad | D27: Si | F27: =IF(D27="Si",G27,0) -> 10 | G27: 10
C28: Académicos(as) colaboran activamente con una organización de la Sociedad Civil u ONG orientada en sustentabilidad | D28: Si | F28: =IF(D28="Si",G28,0) -> 10 | G28: 10
C29: La institución cuenta con una vinculación permanente con alguna de estas instituciones en proyectos de sustentabilidad | D29: Si | F29: =IF(D29="Si",G29,0) -> 40 | G29: 40
C30: RESULTADO | D30: =IF((F29+H21+H25)>100,100,(F29+H21+H25)) -> 100
B31: RS7 Participación en políticas públicas | C31: Existe una unidad u órgano que gestione la participación de la institución en políticas públicas. | D31: Si | E31: La universidad ha formalizado departamentos, dirección y comisiónes cuya función explícita sea la de articular y gestionar la participación en el diseño de políticas del Estado | F31: =IF(D31="Si",G31,0) -> 20 | G31: 20
C32: Existe un diagnóstico de las participaciones en materia de sustentabilidad en las que se ha involucrado la institución durante el año evaluado | D32: Si | E32: La institución no solo participa, sino que también mide, registra y evalúa formalmente el impacto de su participación en políticas públicas relacionadas con la sostenibilidad. | F32: =IF(D32="Si",G32,0) -> 40 | G32: 40
C33: La institución ha participado en la elaboración de una política regional o nacional en el año evaluado | D33: Si | E33: si, la experiencia, el conocimiento y la investigación como universidad se han utilizado activamente en la creación de una política gubernamental durante el período de evaluación. | F33: =IF(D33="Si",G33,0) -> 40 | G33: 40
C34: RESULTADO | D34: =SUM(F31:F33) -> 100
B35: RS8 Plan de vinculación con el medio | C35: La institución cuenta con un plan de acción de vinculación con el medio. | D35: Si | E35: Plan de Acción de Vinculación con el Medio de la UNAH es un componente esencial de su Plan Estratégico Institucional (PEI) y está gestionado por la Dirección de Vinculación Universidad-Sociedad (DVUS) | F35: =IF(D35="Si",G35,0) -> 100 | G35: 100
C36: RESULTADO | D36: =F35 -> 100
B37: RS9 Gestión de remuneraciones y beneficios | C37: La institución ha implementados una política, reglamento, normativa, etc, que conceda días de libre uso más allá de los legales | D37: Si | F37: =IF(D37="Si",G37,0) -> 15 | G37: 15
C38: Ingrese el sueldo mínimo mensual pagado por la institución al personal contratado. | D38: 651.9815 | F38: =IF(D38>=G38,50,0) -> 0 | G38: 464996 | H38: =2.55*F38/100 -> 0
C39: Ingrese el sueldo mínimo mensual exigido que las empresas subcontratadas por la institución deben pagar a sus trabajadores | D39: 467 | F39: =IF(D39>=G39,15,0) -> 0 | G39: 464996 | H39: =2.55*F39/100 -> 0
C40: Ingrese el sueldo máximo pagado por la institución | D40: 5915 | G40: =IFERROR(IF(D38<=D40,(D40/D38),0),0) -> 9.0723433 | H40: {=_xlfn.IFS(G40<15,20,G40<=20,20-((G40-15)*4),G40>20,0)} -> 20
...

Sheet Para desplegables
A1: Binaria | B1: Cambio climático | C1: Tipos de instituciones | D1: Tipo de institución II | E1: Año | F1: Numerica | G1: Porcentaje | H1: Region | K1: Currículum | L1: Investigación e innovación
A2: Si | B2: Alcances 1 y 2 | C2: Universidad | D2: Pública | E2: 1990 | F2: 0 | G2: 0.05 | H2: XV de Arica y Parinacota | K2: Currículum cerrado | L2: Solo investigación
A3: No | B3: Alcances 1, 2 y 3 | C3: Instituto profesional | D3: Privada con aportes estatales | E3: 1991 | F3: 1 | G3: 0.1 | H3: I de Tarapacá | K3: Currículum abierto | L3: Solo innovación
A4: N/A | B4: Sin inventario | C4: CFT | D4: Privada sin aportes estatales | E4: 1992 | F4: 2 | G4: 0.15 | H4: II de Antofagasta | L4: Si, para ambas
B5: Alcances 1 y 2 | C5: Otro | E5: 1993 | G5: 0.2 | H5: III de Atacama | L5: No
B6: Alcances 1, 2 y 3 | E6: 1994 | G6: 0.25 | H6: IV de Coquimbo | L6: N/A investigación
B7: Sin compromiso | E7: 1995 | G7: 0.3 | H7: V de Valparaíso
E8: 1996 | G8: 0.35 | H8: VI del Libertador General Bernardo O'Higgins
A9: RESULTADOS | E9: 1997 | G9: 0.4 | H9: VII del Maule
A10: Indicador | B10: Puntaje total | E10: 1998 | G10: 0.45 | H10: VIII del Bío Bío
A11: GOB1 | B11: =Gobernanza!D10 -> 100 | E11: 1999 | G11: 0.5 | H11: IX de la Araucanía
A12: GOB2 | B12: =Gobernanza!D22 -> 18 | E12: 2000 | G12: 0.55 | H12: XIV de los Ríos
A13: GOB3 | B13: =Gobernanza!D40 -> 100 | E13: 2001 | G13: 0.6 | H13: X de los Lagos
A14: GOB4 | B14: =Gobernanza!D46 -> 25 | E14: 2002 | G14: 0.65 | H14: XI Aisén del General Carlos Ibáñez del Campo
A15: GOB5 | B15: =Gobernanza!D49 -> 30 | E15: 2003 | G15: 0.7 | H15: XII de Magallanes y Antártica Chilena
A16: GOB6 | B16: =Gobernanza!D54 -> 100 | E16: 2004 | G16: 0.75 | H16: RM Metropolitana de Santiago
A17: GOB7 | B17: =Gobernanza!D62 -> 100 | E17: 2005 | G17: 0.8
A18: GOB8 | B18: =+Gobernanza!D69 -> 100 | E18: 2006
A19: CU1 | B19: =Cultura!D8 -> 100 | E19: 2007 | G19: 0.85
A20: CU2 | B20: =Cultura!D11 -> 100 | E20: 2008 | G20: 0.9
A21: CU3 | B21: =Cultura!D17 -> 11.120866 | E21: 2009 | G21: 0.95
A22: CU4 | B22: =Cultura!D20 -> 13.636364 | E22: 2010 | G22: 1
A23: CU5 | B23: =Cultura!D24 -> 100 | E23: 2011
A24: CU6 | B24: =Cultura!D33 -> 100 | E24: 2012
A25: CU7 | B25: =Cultura!D36 -> 100 | E25: 2013
A26: AC1 | B26: =Academia!D7 -> 100 | E26: 2014
A27: AC2 | B27: =Academia!D12 -> 100 | E27: 2015
A28: AC3 | B28: =Academia!D14 -> 14.992504 | E28: 2016
A29: AC4 | B29: =Academia!D16 -> 100 | E29: 2017
A30: AC5 | B30: =Academia!D20 -> 100 | E30: 2018
A31: AC6 | B31: =Academia!D26 -> 100 | E31: 2019
A32: AC7 | B32: =Academia!D32 -> 100 | E32: 2020
A33: GC1 | B33: =+Campus!D13 -> 100 | E33: 2021
A34: GC2 | B34: =+Campus!D16 -> 90 | E34: 2022
A35: GC3 | B35: =+Campus!D19 -> 0 | E35: 2023
A36: GC4 | B36: =+Campus!D30 -> 100 | E36: 2024
A37: GC5 | B37: =+Campus!D38 -> 10
A38: GC6 | B38: =+Campus!D43 -> 95
A39: GC7 | B39: =+Campus!D48 -> 0
A40: GC8 | B40: =+Campus!D61 -> 100
...

Sheet Tributación ODS - no tocar
D2: GOB1 | F2: 16.7
D3: GOB2 | F3: 1.1 | G3: 1.2 | H3: 1.3 | I3: 1.4 | J3: 1.5 | K3: 1.a | L3: 1.b | M3: 2.1 | N3: 2.2 | O3: 2.3 | P3: 2.4 | Q3: 2.5 | R3: 2.a | S3: 2.b | T3: 2.c | U3: 3.1 | V3: 3.2 | W3: 3.3 | X3: 3.4 | Y3: 3.5 | Z3: 3.6 | AA3: 3.7 | AB3: 3.8 | AC3: 3.9 | AD3: 3.a | AE3: 3.b | AF3: 3.c | AG3: 3.d | AH3: 4.1 | AI3: 4.2 | AJ3: 4.3 | AK3: 4.4 | AL3: 4.5 | AM3: 4.6 | AN3: 4.7 | AO3: 4.a | AP3: 4.b | AQ3: 4.c | AR3: 5.1 | AS3: 5.2 | AT3: 5.3 | AU3: 5.4 | AV3: 5.5 | AW3: 5.6 | AX3: 5.a | AY3: 5.b | AZ3: 5.c | BA3: 6.1 | BB3: 6.2 | BC3: 6.3 | BD3: 6.4 | BE3: 6.5 | BF3: 6.6 | BG3: 6.a | BH3: 6.b | BI3: 7.1 | BJ3: 7.2 | BK3: 7.3 | BL3: 7.a | BM3: 7.b | BN3: 8.1 | BO3: 8.2 | BP3: 8.3 | BQ3: 8.4 | BR3: 8.5 | BS3: 8.6 | BT3: 8.7 | BU3: 8.8 | BV3: 8.9 | BW3: 8.1 | BX3: 8.a | BY3: 8.b | BZ3: 9.1 | CA3: 9.2 | CB3: 9.3 | CC3: 9.4 | CD3: 9.5 | CE3: 9.a | CF3: 9.b | CG3: 9.c | CH3: 10.1 | CI3: 10.2 | CJ3: 10.3 | CK3: 10.4 | CL3: 10.5 | CM3: 10.6 | CN3: 10.7 | CO3: 10.a | CP3: 10.b | CQ3: 10.c | CR3: 11.1 | CS3: 11.2 | CT3: 11.3 | CU3: 11.4 | CV3: 11.5 | CW3: 11.6 | CX3: 11.7 | CY3: 11.a | CZ3: 11.b | DA3: 11.c | DB3: 12.1 | DC3: 12.2 | DD3: 12.3 | DE3: 12.4 | DF3: 12.5 | DG3: 12.6 | DH3: 12.7 | DI3: 12.8 | DJ3: 12.a | DK3: 12.b | DL3: 12.c | DM3: 13.1 | DN3: 13.2 | DO3: 13.3 | DP3: 13.a | DQ3: 13.b | DR3: 14.1 | DS3: 14.2 | DT3: 14.3 | DU3: 14.4 | DV3: 14.5 | DW3: 14.6 | DX3: 14.7 | DY3: 14.a | DZ3: 14.b | EA3: 14.c | EB3: 15.1 | EC3: 15.2 | ED3: 15.3 | EE3: 15.4 | EF3: 15.5 | EG3: 15.6 | EH3: 15.7 | EI3: 15.8 | EJ3: 15.9 | EK3: 15.a | EL3: 15.b | EM3: 15.c | EN3: 16.1 | EO3: 16.2 | EP3: 16.3 | EQ3: 16.4 | ER3: 16.5 | ES3: 16.6 | ET3: 16.7 | EU3: 16.8 | EV3: 16.9 | EW3: 16.1 | EX3: 16.a | EY3: 16.b | EZ3: 17.1 | FA3: 17.2 | FB3: 17.3 | FC3: 17.4 | FD3: 17.5 | FE3: 17.6 | FF3: 17.7 | FG3: 17.8 | FH3: 17.9 | FI3: 17.1 | FJ3: 17.11 | FK3: 17.12 | FL3: 17.13 | FM3: 17.14 | FN3: 17.15 | FO3: 17.16 | FP3: 17.17 | FQ3: 17.18 | FR3: 17.19
B4: 2-4-5-7-8-9-10-11-12-13-14-15 | D4: GOB3 | M4: 2.1 | N4: 2.2 | O4: 2.3 | P4: 2.4 | Q4: 2.5 | R4: 2.a | S4: 2.b | T4: 2.c | AH4: 4.1 | AI4: 4.2 | AJ4: 4.3 | AK4: 4.4 | AL4: 4.5 | AM4: 4.6 | AN4: 4.7 | AO4: 4.a | AP4: 4.b | AQ4: 4.c | AR4: 5.1 | AS4: 5.2 | AT4: 5.3 | AU4: 5.4 | AV4: 5.5 | AW4: 5.6 | AX4: 5.a | AY4: 5.b | AZ4: 5.c | BI4: 7.1 | BJ4: 7.2 | BK4: 7.3 | BL4: 7.a | BM4: 7.b | BN4: 8.1 | BO4: 8.2 | BP4: 8.3 | BQ4: 8.4 | BR4: 8.5 | BS4: 8.6 | BT4: 8.7 | BU4: 8.8 | BV4: 8.9 | BW4: 8.1 | BX4: 8.a | BY4: 8.b | BZ4: 9.1 | CA4: 9.2 | CB4: 9.3 | CC4: 9.4 | CD4: 9.5 | CE4: 9.a | CF4: 9.b | CG4: 9.c | CH4: 10.1 | CI4: 10.2 | CJ4: 10.3 | CK4: 10.4 | CL4: 10.5 | CM4: 10.6 | CN4: 10.7 | CO4: 10.a | CP4: 10.b | CQ4: 10.c | CR4: 11.1 | CS4: 11.2 | CT4: 11.3 | CU4: 11.4 | CV4: 11.5 | CW4: 11.6 | CX4: 11.7 | CY4: 11.a | CZ4: 11.b | DA4: 11.c | DB4: 12.1 | DC4: 12.2 | DD4: 12.3 | DE4: 12.4 | DF4: 12.5 | DG4: 12.6 | DH4: 12.7 | DI4: 12.8 | DJ4: 12.a | DK4: 12.b | DL4: 12.c | DM4: 13.1 | DN4: 13.2 | DO4: 13.3 | DP4: 13.a | DQ4: 13.b | DR4: 14.1 | DS4: 14.2 | DT4: 14.3 | DU4: 14.4 | DV4: 14.5 | DW4: 14.6 | DX4: 14.7 | DY4: 14.a | DZ4: 14.b | EA4: 14.c | EB4: 15.1 | EC4: 15.2 | ED4: 15.3 | EE4: 15.4 | EF4: 15.5 | EG4: 15.6 | EH4: 15.7 | EI4: 15.8 | EJ4: 15.9 | EK4: 15.a | EL4: 15.b | EM4: 15.c
D5: GOB4 | F5: 16.6
D6: GOB5
D7: GOB6 | F7: 11.3
D8: GOB7 | F8: 10.2
D9: GOB8 | F9: 5.5
D11: CU1 | F11: 4.7 | G11: 12.8 | H11: 13.3
D12: CU2 | F12: 4.7 | G12: 12.8 | H12: 13.3
D13: CU3 | F13: 4.7 | G13: 12.8 | H13: 13.3
D14: CU4 | F14: 4.7 | G14: 12.8- | H14: 13.3
D15: CU5 | F15: 4.7 | G15: 12.8- | H15: 13.3
D16: CU6 | F16: 4.7 | G16: 12.8- | H16: 13.3
D17: CU7 | F17: 4.7 | G17: 12.8- | H17: 13.3
D19: AC1 | F19: 4.7 | G19: 12.8- | H19: 13.3
D20: AC2 | F20: 4.7 | G20: 12.8- | H20: 13.3
D21: AC3 | F21: 4.7 | G21: 12.8- | H21: 13.3
D22: AC4 | F22: 4.7 | G22: 12.8- | H22: 13.3
D23: AC5 | F23: 2.a | G23: 3.b | H23: 7.a | I23: 9.5 | J23: 9.b | K23: 14.a
D24: AC6 | F24: 2.a | G24: 3.b | H24: 7.a | I24: 9.5 | J24: 9.b | K24: 14.a
D25: AC7 | F25: 4.7 | G25: 12.8 | H25: 13.3
D27: GC1 | F27: 6.4
D28: GC2 | F28: 6.4
D29: GC3 | F29: 6.4
D30: GC4 | F30: 4.7 | G30: 15.2 | H30: 15.4 | I30: 15.5
D31: GC5 | F31: 2.4 | G31: 6.4 | H31: 12.5
D32: GC6 | F32: 13.2
D33: GC7 | F33: 13.2
D34: GC8 | F34: 7.3
D35: GC9 | F35: 7.3
D36: GC10
D37: GC11 | F37: 12.4 | G37: 12.5
D38: GC12 | F38: 12.5
D39: GC13 | F39: 12.4 | G39: 12.5
D40: GC14 | F40: 2.1
D41: GC15 | F41: 12.5- | G41: 12.7
D42: GC16 | F42: 9.1
D43: GC17 | F43: 6.4 | G43: 7.3
D44: GC18 | F44: 11.2
...

Sheet Resumen aporte ODS
D1: Aporte porcentual
A2: Objetivo desarrollo sostenible | B2: SUM of Suma aporte | C2: SUM of Aporte posible | D2: =B2/C2 -> #VALUE!
A3: 1 | B3: 1.26 | C3: 7 | D3: =B3/C3 -> 0.18
A4: 2 | B4: 12.54 | C4: 20 | D4: =B4/C4 -> 0.627
A5: 3 | B5: 4.34 | C5: 15 | D5: =B5/C5 -> 0.28933333
A6: 4 | B6: 22.871065 | C6: 34 | D6: =B6/C6 -> 0.67267839
A7: 5 | B7: 14.12 | C7: 22 | D7: =B7/C7 -> 0.64181818
A8: 6 | B8: 3.44 | C8: 13 | D8: =B8/C8 -> 0.26461538
A9: 7 | B9: 8.9 | C9: 15 | D9: =B9/C9 -> 0.59333333
A10: 8 | B10: 15.51 | C10: 26 | D10: =B10/C10 -> 0.59653846
A11: 9 | B11: 13.44 | C11: 21 | D11: =B11/C11 -> 0.64
A12: 10 | B12: 13.8 | C12: 22 | D12: =B12/C12 -> 0.62727273
A13: 11 | B13: 14.8 | C13: 24 | D13: =B13/C13 -> 0.61666667
A14: 12 | B14: 19.191209 | C14: 33 | D14: =B14/C14 -> 0.58155178
... A18: 16 | B18: 3.41 | C18: 14 | D18: =B18/C18 -> 0.24357143
A19: 17 | B19: 4.42 | C19: 20
A20: Total general | B20: 199.24977 | C20: 359
A21: =A1 -> 0 | B21: =B1 | C21: =C1 -> 0 | D21: =D1 -> Aporte porcentual
A22: ODS-1 | B22: =B2 -> SUM of Suma aporte | C22: =C2 -> SUM of Aporte posible | D22: =D2 -> #VALUE!
A23: ODS-2 | B23: =B3 -> 1.26 | C23: =C3 -> 7 | D23: =D3 -> 0.18
A24: ODS-3 | B24: =B4 -> 12.54 | C24: =C4 -> 20 | D24: =D4 -> 0.627
A25: ODS-4 | B25: =B5 -> 4.34 | C25: =C5 -> 15 | D25: =D5 -> 0.28933333
A26: ODS-5 | B26: =B6 -> 22.871065 | C26: =C6 -> 34 | D26: =D6 -> 0.67267839
A27: ODS-6 | B27: =B7 -> 14.12 | C27: =C7 -> 22 | D27: =D7 -> 0.64181818
A28: ODS-7 | B28: =B8 -> 3.44 | C28: =C8 -> 13 | D28: =D8 -> 0.26461538
A29: ODS-8 | B29: =B9 -> 8.9 | C29: =C9 -> 15 | D29: =D9 -> 0.59333333
A30: ODS-9 | B30: =B10 -> 15.51 | C30: =C10 -> 26 | D30: =D10 -> 0.59653846
A31: ODS-10 | B31: =B11 -> 13.44 | C31: =C11 -> 21 | D31: =D11 -> 0.64
A32: ODS-11 | B32: =B12 -> 13.8 | C32: =C12 -> 22 | D32: =D12 -> 0.62727273
A33: ODS-12 | B33: =B13 -> 14.8 | C33: =C13 -> 24 | D33: =D13 -> 0.61666667
... A38: ODS-17 | B38: =B18 -> 3.41 | C38: =C18 -> 14 | D38: =D18 -> 0.24357143
A39: Sin avance | B39: =C19-B19 -> 15.58 | D39: =SUM(C19-B19)/C19 -> 0.779
